0.5000000000
0.0000000000
0.0000000000
-0.5000000000
627478.8481640741
1448288.2354995757
