0.5000000000
0.0000000000
0.0000000000
-0.5000000000
436322.8481640741
1417570.2354995757
