0.5000000000
0.0000000000
0.0000000000
-0.5000000000
590393.8481640741
1448244.2354995757
