0.5000000000
0.0000000000
0.0000000000
-0.5000000000
622183.8481640741
1448257.2354995757
