0.5000000000
0.0000000000
0.0000000000
-0.5000000000
494507.8481640741
1417086.2354995757
