0.5000000000
0.0000000000
0.0000000000
-0.5000000000
585238.8481640741
1480169.2354995757
