0.5000000000
0.0000000000
0.0000000000
-0.5000000000
457664.8481640741
1448927.2354995757
