0.5000000000
0.0000000000
0.0000000000
-0.5000000000
616914.8481640741
1448251.2354995757
