0.5000000000
0.0000000000
0.0000000000
-0.5000000000
515848.8481640741
1480147.2354995757
