0.5000000000
0.0000000000
0.0000000000
-0.5000000000
420538.8481640741
1448591.2354995757
