0.5000000000
0.0000000000
0.0000000000
-0.5000000000
483716.8481640741
1416953.2354995757
