0.5000000000
0.0000000000
0.0000000000
-0.5000000000
515438.8481640741
1416385.2354995757
