0.5000000000
0.0000000000
0.0000000000
-0.5000000000
542737.8481640741
1480250.2354995757
