0.5000000000
0.0000000000
0.0000000000
-0.5000000000
606636.8481640741
1506772.2354995757
