0.5000000000
0.0000000000
0.0000000000
-0.5000000000
606457.8481640741
1474872.2354995757
