0.5000000000
0.0000000000
0.0000000000
-0.5000000000
418985.8481640741
1443350.2354995757
