0.5000000000
0.0000000000
0.0000000000
-0.5000000000
478788.8481640741
1443201.2354995757
