0.5000000000
0.0000000000
0.0000000000
-0.5000000000
510176.8481640741
1443282.2354995757
