0.5000000000
0.0000000000
0.0000000000
-0.5000000000
606258.8481640741
1442912.2354995757
