0.5000000000
0.0000000000
0.0000000000
-0.5000000000
420412.8481640741
1412391.2354995757
