0.5000000000
0.0000000000
0.0000000000
-0.5000000000
552998.8481640741
1442957.2354995757
