0.5000000000
0.0000000000
0.0000000000
-0.5000000000
616919.8481640741
1442915.2354995757
