0.5000000000
0.0000000000
0.0000000000
-0.5000000000
494666.8481640741
1474925.2354995757
