0.5000000000
0.0000000000
0.0000000000
-0.5000000000
590524.8481640741
1474868.2354995757
