0.5000000000
0.0000000000
0.0000000000
-0.5000000000
403842.8481640741
1409337.2354995757
