0.5000000000
0.0000000000
0.0000000000
-0.5000000000
462546.8481640741
1412234.2354995757
