0.5000000000
0.0000000000
0.0000000000
-0.5000000000
436599.8481640741
1475148.2354995757
