0.5000000000
0.0000000000
0.0000000000
-0.5000000000
563857.8481640741
1474861.2354995757
