0.5000000000
0.0000000000
0.0000000000
-0.5000000000
468225.8481640741
1443259.2354995757
