0.5000000000
0.0000000000
0.0000000000
-0.5000000000
409849.8481640741
1412409.2354995757
