0.5000000000
0.0000000000
0.0000000000
-0.5000000000
473539.8481640741
1469739.2354995757
