0.5000000000
0.0000000000
0.0000000000
-0.5000000000
473465.8481640741
1437945.2354995757
