0.5000000000
0.0000000000
0.0000000000
-0.5000000000
595977.8481640741
1501499.2354995757
