0.5000000000
0.0000000000
0.0000000000
-0.5000000000
627806.8481640741
1501405.2354995757
