0.5000000000
0.0000000000
0.0000000000
-0.5000000000
627615.8481640741
1469500.2354995757
