0.5000000000
0.0000000000
0.0000000000
-0.5000000000
531614.8481640741
1405833.2354995757
