0.5000000000
0.0000000000
0.0000000000
-0.5000000000
595220.8481640741
1405867.2354995757
