0.5000000000
0.0000000000
0.0000000000
-0.5000000000
622531.8481640741
1501413.2354995757
