0.5000000000
0.0000000000
0.0000000000
-0.5000000000
494626.8481640741
1469633.2354995757
