0.5000000000
0.0000000000
0.0000000000
-0.5000000000
558527.8481640741
1469559.2354995757
