0.5000000000
0.0000000000
0.0000000000
-0.5000000000
558243.8481640741
1405733.2354995757
