0.5000000000
0.0000000000
0.0000000000
-0.5000000000
521109.8481640741
1469588.2354995757
