0.5000000000
0.0000000000
0.0000000000
-0.5000000000
553205.8481640741
1469572.2354995757
