0.5000000000
0.0000000000
0.0000000000
-0.5000000000
585023.8481640741
1437653.2354995757
