0.5000000000
0.0000000000
0.0000000000
-0.5000000000
547869.8481640741
1469579.2354995757
