0.5000000000
0.0000000000
0.0000000000
-0.5000000000
577992.8481640741
1405778.2354995757
