0.5000000000
0.0000000000
0.0000000000
-0.5000000000
606610.8481640741
1501465.2354995757
