0.5000000000
0.0000000000
0.0000000000
-0.5000000000
478754.8481640741
1438271.2354995757
