0.5000000000
0.0000000000
0.0000000000
-0.5000000000
542218.8481640741
1406149.2354995757
