0.5000000000
0.0000000000
0.0000000000
-0.5000000000
574228.8481640741
1432335.2354995757
